BEGIN:VCALENDAR
VERSION:2.0
PRODID:-//Ozark Highlands Trail Association - ECPv6.15.20//NONSGML v1.0//EN
CALSCALE:GREGORIAN
METHOD:PUBLISH
X-WR-CALNAME:Ozark Highlands Trail Association
X-ORIGINAL-URL:https://ozarkhighlandstrail.com
X-WR-CALDESC:Events for Ozark Highlands Trail Association
REFRESH-INTERVAL;VALUE=DURATION:PT1H
X-Robots-Tag:noindex
X-PUBLISHED-TTL:PT1H
BEGIN:VTIMEZONE
TZID:America/Chicago
BEGIN:DAYLIGHT
TZOFFSETFROM:-0600
TZOFFSETTO:-0500
TZNAME:CDT
DTSTART:20220313T080000
END:DAYLIGHT
BEGIN:STANDARD
TZOFFSETFROM:-0500
TZOFFSETTO:-0600
TZNAME:CST
DTSTART:20221106T070000
END:STANDARD
BEGIN:DAYLIGHT
TZOFFSETFROM:-0600
TZOFFSETTO:-0500
TZNAME:CDT
DTSTART:20230312T080000
END:DAYLIGHT
BEGIN:STANDARD
TZOFFSETFROM:-0500
TZOFFSETTO:-0600
TZNAME:CST
DTSTART:20231105T070000
END:STANDARD
BEGIN:DAYLIGHT
TZOFFSETFROM:-0600
TZOFFSETTO:-0500
TZNAME:CDT
DTSTART:20240310T080000
END:DAYLIGHT
BEGIN:STANDARD
TZOFFSETFROM:-0500
TZOFFSETTO:-0600
TZNAME:CST
DTSTART:20241103T070000
END:STANDARD
END:VTIMEZONE
BEGIN:VEVENT
DTSTART;TZID=America/Chicago:20231203T143000
DTEND;TZID=America/Chicago:20231203T173000
DTSTAMP:20260421T044354
CREATED:20231202T220218Z
LAST-MODIFIED:20231202T220218Z
UID:3516-1701613800-1701624600@ozarkhighlandstrail.com
SUMMARY:December 2023 OHTA Board of Directors Meeting
DESCRIPTION:The first OHTA board meeting of the season is on the schedule\, and all members (prospective members\, too) of the organization are encouraged to attend. The meeting will be held in Harrison in hopes of encouraging folks from both ends of OHT’s vast expanse to attend. The event will include a potluck dinner\, so everyone is encouraged to bring some sort of food item/dish. In addition\, Elizabeth and Josh Granderson will be doing a presentation (please see below). \nHere are the details: \nDay and Date: Sunday\, December 3\, 2023 \nTime: 2:30 p.m. to 5:30 p.m. \nLocation: \n\nJohn Paul Hammerschmidt Conference Center\, North Arkansas College (south campus)\n1515 Pioneer Drive\, Harrison\, Arkansas 72601\n\nEvent Agenda: \n\n2:30 to 3:45 – board of directors meeting\n3:45 to 5:30 – potluck meal\n4ish to 5ish – presentation by the Grandersons titled “Intentionally Outside: How we seek to plan our family life around outdoor experiences.”\n\nIf you have any questions about this board and membership meeting\, please feel free to email Phil Brown at brown.philip9@gmail.com. \nHope to see you there!
URL:https://ozarkhighlandstrail.com/event/december-2023-ohta-board-of-directors-meeting/
END:VEVENT
END:VCALENDAR