BEGIN:VCALENDAR
VERSION:2.0
PRODID:-//Ozark Highlands Trail Association - ECPv6.15.20//NONSGML v1.0//EN
CALSCALE:GREGORIAN
METHOD:PUBLISH
X-ORIGINAL-URL:https://ozarkhighlandstrail.com
X-WR-CALDESC:Events for Ozark Highlands Trail Association
REFRESH-INTERVAL;VALUE=DURATION:PT1H
X-Robots-Tag:noindex
X-PUBLISHED-TTL:PT1H
BEGIN:VTIMEZONE
TZID:America/Chicago
BEGIN:DAYLIGHT
TZOFFSETFROM:-0600
TZOFFSETTO:-0500
TZNAME:CDT
DTSTART:20220313T080000
END:DAYLIGHT
BEGIN:STANDARD
TZOFFSETFROM:-0500
TZOFFSETTO:-0600
TZNAME:CST
DTSTART:20221106T070000
END:STANDARD
BEGIN:DAYLIGHT
TZOFFSETFROM:-0600
TZOFFSETTO:-0500
TZNAME:CDT
DTSTART:20230312T080000
END:DAYLIGHT
BEGIN:STANDARD
TZOFFSETFROM:-0500
TZOFFSETTO:-0600
TZNAME:CST
DTSTART:20231105T070000
END:STANDARD
BEGIN:DAYLIGHT
TZOFFSETFROM:-0600
TZOFFSETTO:-0500
TZNAME:CDT
DTSTART:20240310T080000
END:DAYLIGHT
BEGIN:STANDARD
TZOFFSETFROM:-0500
TZOFFSETTO:-0600
TZNAME:CST
DTSTART:20241103T070000
END:STANDARD
END:VTIMEZONE
BEGIN:VEVENT
DTSTART;VALUE=DATE:20231104
DTEND;VALUE=DATE:20231106
DTSTAMP:20260421T044639
CREATED:20230525T151216Z
LAST-MODIFIED:20230525T151216Z
UID:3274-1699056000-1699228799@ozarkhighlandstrail.com
SUMMARY:2023 Hare Mountain Hike In
DESCRIPTION:The 2023 Hare Mountain Hike In\, a celebration to commemorate the 1981 birth of the Ozark Highlands Trail Association\, will be held November 4-5\, 2023. \nIf you want to be a part of 2023’s special occasion\, there are multiple locations from which to start your hike. However\, the spot closest to where everyone will camp on Hare Mountain is the Hare Mountain/Morgan Field Trailhead (can be located on the Ozark Highlands Trail—West map available in OHTA’s online store). From there it is a mere 1.7 mile hike to the top. \nThis year’s Hike In will include a potluck dinner on Saturday evening\, so please remember to bring something tasty to contribute to the feast. In addition\, presentations will be made for the winner of the Maintainer of the Year Award\, Dawna Robinson Member of the Year Award\, and the Trail Ranger Award (a lifetime achievement award). \nThere is plenty of room to camp\, but be sure to pack in all the water you will need. Come one\, come all. This is a perfect opportunity to introduce someone who is new to hiking to the spectacular beauty of the Ozark mountains and the unparalleled experience of primitive camping.
URL:https://ozarkhighlandstrail.com/event/2023-hare-mountain-hike-in/
LOCATION:Hare Mountain
ATTACH;FMTTYPE=image/jpeg:https://ozarkhighlandstrail.com/wp-content/uploads/2023/05/314905528_10221303196195598_6044195497075567781_n.jpg
END:VEVENT
END:VCALENDAR